BEGIN:VCALENDAR
VERSION:2.0
PRODID:-//TICHO a spol. - ECPv5.7.0//NONSGML v1.0//EN
CALSCALE:GREGORIAN
METHOD:PUBLISH
X-WR-CALNAME:TICHO a spol.
X-ORIGINAL-URL:https://www.tichoaspol.sk
X-WR-CALDESC:Events for TICHO a spol.
BEGIN:VTIMEZONE
TZID:Europe/Bratislava
BEGIN:DAYLIGHT
TZOFFSETFROM:+0100
TZOFFSETTO:+0200
TZNAME:CEST
DTSTART:20260329T010000
END:DAYLIGHT
BEGIN:STANDARD
TZOFFSETFROM:+0200
TZOFFSETTO:+0100
TZNAME:CET
DTSTART:20261025T010000
END:STANDARD
END:VTIMEZONE
BEGIN:VEVENT
DTSTART;TZID=Europe/Bratislava:20260330T190000
DTEND;TZID=Europe/Bratislava:20260330T203000
DTSTAMP:20260425T150955
CREATED:20260220T143029Z
LAST-MODIFIED:20260220T143029Z
UID:7966-1774897200-1774902600@www.tichoaspol.sk
SUMMARY:Všetky úžasné veci
DESCRIPTION:Uvažovali ste niekedy nad tým\, koľko je na svete úžasných vecí\, pre ktoré stojí za to žiť? Pre ktoré sa oplatí to nevzdať? Všetky úžasné veci sú plné radosti\, smiechu a spontánnosti. Lebo práve to sú tie úžasné veci\, pre ktoré sa oplatí žiť. Autori: Duncan Macmillan & Johny Donahoe\, Účinkuje: Miro Noga\, Réžia: Robo Horňák. \n 
URL:https://www.tichoaspol.sk/event/vsetky-uzasne-veci-3-2-2-2-2-2-2-2-2-2-2-2-2-2-2-2-2-2-2-2-2-2-2-2-2-2-2-2-2-2-2-2-2-3-2-2-2-2-2-2-2-2-3-2-2-3-2-3-2-3-2-3-2-2-2-2-3-3-2-2-2-2-2-3-2-3-2-2-4-2-2-3-2-2-2-2-2-2-2-2-2-2-2-2-2-2/
CATEGORIES:Divadlo
END:VEVENT
BEGIN:VEVENT
DTSTART;TZID=Europe/Bratislava:20260413T190000
DTEND;TZID=Europe/Bratislava:20260413T200000
DTSTAMP:20260425T150955
CREATED:20260323T164527Z
LAST-MODIFIED:20260323T164527Z
UID:8025-1776106800-1776110400@www.tichoaspol.sk
SUMMARY:Václav Havel: Audiencia
DESCRIPTION:Audiencia patrí k najvýznamnejším textom\, ktoré Václav Havel napísal počas svojho disidentského obdobia. Autor s humorom odkrýva psychológiu donášania\, lojalitu\, strach\, ale aj absurdnosť totalitného režimu v ČSSR. Zdanlivo banálna konverzácia medzi dvoma mužmi je v skutočnosti napätým zápasom o integritu\, dôstojnosť a slobodu. Autor: Václav Havel\, Hrajú: Šimon Peter Králik\, Patrik Minár. Réžia: Matej Feldbauer.
URL:https://www.tichoaspol.sk/event/audiencia-2-2-2/
END:VEVENT
BEGIN:VEVENT
DTSTART;TZID=Europe/Bratislava:20260416T190000
DTEND;TZID=Europe/Bratislava:20260416T202000
DTSTAMP:20260425T150955
CREATED:20260323T164556Z
LAST-MODIFIED:20260323T164556Z
UID:8027-1776366000-1776370800@www.tichoaspol.sk
SUMMARY:Výstrel nik nepočul
DESCRIPTION:Toto je detektívka a detektívky obvykle zveličujú: zločiny bývajú svetoborné\, odhalenie senzačné a mozgy kriminalistov pracujú ostošesť. Autor: Juraj Váh\, Réžia: Matej Feldbauer. Rezervácie: lahostajna@gmail.com. Vstupné dobrovoľné.
URL:https://www.tichoaspol.sk/event/vystrel-nik-nepocul-2-3-2/
END:VEVENT
BEGIN:VEVENT
DTSTART;TZID=Europe/Bratislava:20260417T190000
DTEND;TZID=Europe/Bratislava:20260417T203000
DTSTAMP:20260425T150955
CREATED:20260319T203245Z
LAST-MODIFIED:20260417T115324Z
UID:7988-1776452400-1776457800@www.tichoaspol.sk
SUMMARY:Všetky úžasné veci /PRESUNUTÉ/
DESCRIPTION:Vážení diváci\, veľmi nás to mrzí\, ale dnešné predstavenie Všetky úžasné veci (17. 4. 2026) musíme zo zdravotných dôvodov presunúť na 11.5.2026. Za vzniknuté komplikácie sa ospravedlňujeme a ďakujeme za pochopenie. Vaše TICHO a spol.
URL:https://www.tichoaspol.sk/event/vsetky-uzasne-veci-3-2-2-2-2-2-2-2-2-2-2-2-2-2-2-2-2-2-2-2-2-2-2-2-2-2-2-2-2-2-2-2-2-3-2-2-2-2-2-2-2-2-3-2-2-3-2-3-2-3-2-3-2-2-2-2-3-3-2-2-2-2-2-3-2-3-2-2-4-2-2-3-2-2-2-2-2-2-2-2-2-2-2-2-2-2-2/
CATEGORIES:Divadlo
END:VEVENT
BEGIN:VEVENT
DTSTART;TZID=Europe/Bratislava:20260424T190000
DTEND;TZID=Europe/Bratislava:20260424T200000
DTSTAMP:20260425T150955
CREATED:20260308T140546Z
LAST-MODIFIED:20260424T095223Z
UID:7989-1777057200-1777060800@www.tichoaspol.sk
SUMMARY:Gravitačný kolaps /ZMENA PROGRAMU/
DESCRIPTION:Vážení diváci\, veľmi nás to mrzí\, ale dnešné predstavenie Gravitačný kolaps 24. 04. 2026 je zo zdravotných dôvodov zrušené. Vaše zakúpené lístky zostávajú v platnosti aj na reprízu 18. 05. 2026 o 19.00 hod. Za vzniknuté komplikácie sa ospravedlňujeme a za pochopenie ďakujeme. Vaše TICHO a spol.
URL:https://www.tichoaspol.sk/event/gravitacny-kolaps-4-2-2-2-2-2/
END:VEVENT
BEGIN:VEVENT
DTSTART;TZID=Europe/Bratislava:20260429T190000
DTEND;TZID=Europe/Bratislava:20260429T214000
DTSTAMP:20260425T150955
CREATED:20260220T143356Z
LAST-MODIFIED:20260308T140212Z
UID:7968-1777489200-1777498800@www.tichoaspol.sk
SUMMARY:Lebensraum
DESCRIPTION:O temných stránkach charakterov ľudí vo vyspelej\, tolerantnej spoločnosti. Israel Horovitz napísal túto drámu po návšteve Nemecka v roku 1996. Odvtedy sa stala jeho najčastejšie uvádzanou hrou v Európe. Na Slovensku sa jedná o úplne prvé uvedenie tohto diela. Hrajú: Kristína Spáčová\, Dušan Ambróš\, Jakub Janotík\, Annamária Janeková\, Sandra Lasoková. Réžia: Kateřina Quisová.
URL:https://www.tichoaspol.sk/event/lebensraum-2/
END:VEVENT
END:VCALENDAR